BEGIN:VCALENDAR
VERSION:2.0
PRODID:-//Orleans Country Club - ECPv6.15.20//NONSGML v1.0//EN
CALSCALE:GREGORIAN
METHOD:PUBLISH
X-ORIGINAL-URL:https://orleanscc.com
X-WR-CALDESC:Events for Orleans Country Club
REFRESH-INTERVAL;VALUE=DURATION:PT1H
X-Robots-Tag:noindex
X-PUBLISHED-TTL:PT1H
BEGIN:VTIMEZONE
TZID:America/Toronto
BEGIN:DAYLIGHT
TZOFFSETFROM:-0500
TZOFFSETTO:-0400
TZNAME:EDT
DTSTART:20240310T070000
END:DAYLIGHT
BEGIN:STANDARD
TZOFFSETFROM:-0400
TZOFFSETTO:-0500
TZNAME:EST
DTSTART:20241103T060000
END:STANDARD
BEGIN:DAYLIGHT
TZOFFSETFROM:-0500
TZOFFSETTO:-0400
TZNAME:EDT
DTSTART:20250309T070000
END:DAYLIGHT
BEGIN:STANDARD
TZOFFSETFROM:-0400
TZOFFSETTO:-0500
TZNAME:EST
DTSTART:20251102T060000
END:STANDARD
BEGIN:DAYLIGHT
TZOFFSETFROM:-0500
TZOFFSETTO:-0400
TZNAME:EDT
DTSTART:20260308T070000
END:DAYLIGHT
BEGIN:STANDARD
TZOFFSETFROM:-0400
TZOFFSETTO:-0500
TZNAME:EST
DTSTART:20261101T060000
END:STANDARD
BEGIN:DAYLIGHT
TZOFFSETFROM:-0500
TZOFFSETTO:-0400
TZNAME:EDT
DTSTART:20270314T070000
END:DAYLIGHT
BEGIN:STANDARD
TZOFFSETFROM:-0400
TZOFFSETTO:-0500
TZNAME:EST
DTSTART:20271107T060000
END:STANDARD
END:VTIMEZONE
BEGIN:VEVENT
DTSTART;TZID=America/Toronto:20260421T183000
DTEND;TZID=America/Toronto:20260421T183000
DTSTAMP:20260422T123037
CREATED:20260101T113415Z
LAST-MODIFIED:20260330T021603Z
UID:3935-1776796200-1776796200@orleanscc.com
SUMMARY:Annual Meeting of the Corporation
DESCRIPTION:Tuesday\, April 21\, 2026    6:30 PM     Annual Meeting of the Corporation to host board of director elections and to discuss any business to come before the meeting. \nFor links to important documents\, click on documents listed below! \nAvailable documents include: \n\nPresident’s Letter from Aaron Palmiera\nApril 21\, 2026 Annual Meeting Agenda\n2026 Proxy Vote Ballot and Statements of Interest\n2025 Minutes – Annual Meeting (April 22\, 2025)\n\nPoster will be updated as it becomes available.
URL:https://orleanscc.com/event/annual-meeting-orleans-country-club-corporation/
CATEGORIES:Annual Meeting
ATTACH;FMTTYPE=image/png:https://orleanscc.com/wp-content/uploads/2022/01/AnnualMeetingGeneric-e1645104791912.png
END:VEVENT
BEGIN:VEVENT
DTSTART;VALUE=DATE:20260418
DTEND;VALUE=DATE:20260419
DTSTAMP:20260422T123037
CREATED:20260101T222536Z
LAST-MODIFIED:20260416T145806Z
UID:11966-1776470400-1776556799@orleanscc.com
SUMMARY:Volunteer Day & Opening Day Info
DESCRIPTION:Saturday\, April 18\, 2026      Volunteer Day 9:00 to Noon INDOOR ONLY and Opening Day. See flyers below for details. Outdoor Volunteer Day is now scheduled for April 25th. This is all weather dependent and subject to change. Call the Pro Shop 802-754-2333 Option 1 for the most current information. Also watch for OCC Club Emails. \nCome and enjoy the day with your fellow members. A lunch and social time follows the clean up efforts. \n \n \n\n \n \n\n 
URL:https://orleanscc.com/event/volunteer-day-opening-day-info/
CATEGORIES:Announcement
ATTACH;FMTTYPE=image/png:https://orleanscc.com/wp-content/uploads/2017/02/VolunteerDayGeneric-e1649259254793.png
END:VEVENT
BEGIN:VEVENT
DTSTART;TZID=America/Toronto:20250719T110000
DTEND;TZID=America/Toronto:20250719T110000
DTSTAMP:20260422T123037
CREATED:20250401T210336Z
LAST-MODIFIED:20250403T210530Z
UID:11944-1752922800-1752922800@orleanscc.com
SUMMARY:NH/VT Tournament
DESCRIPTION:Saturday\, July 19\, 2025     This NH/VT Tournament is to follow the NEKLS Tournament
URL:https://orleanscc.com/event/nh-vt-tournament/
CATEGORIES:Private Function
END:VEVENT
END:VCALENDAR