BEGIN:VCALENDAR
VERSION:2.0
PRODID:-//Orleans Country Club - ECPv6.15.20//NONSGML v1.0//EN
CALSCALE:GREGORIAN
METHOD:PUBLISH
X-ORIGINAL-URL:https://orleanscc.com
X-WR-CALDESC:Events for Orleans Country Club
REFRESH-INTERVAL;VALUE=DURATION:PT1H
X-Robots-Tag:noindex
X-PUBLISHED-TTL:PT1H
BEGIN:VTIMEZONE
TZID:America/Toronto
BEGIN:DAYLIGHT
TZOFFSETFROM:-0500
TZOFFSETTO:-0400
TZNAME:EDT
DTSTART:20250309T070000
END:DAYLIGHT
BEGIN:STANDARD
TZOFFSETFROM:-0400
TZOFFSETTO:-0500
TZNAME:EST
DTSTART:20251102T060000
END:STANDARD
BEGIN:DAYLIGHT
TZOFFSETFROM:-0500
TZOFFSETTO:-0400
TZNAME:EDT
DTSTART:20260308T070000
END:DAYLIGHT
BEGIN:STANDARD
TZOFFSETFROM:-0400
TZOFFSETTO:-0500
TZNAME:EST
DTSTART:20261101T060000
END:STANDARD
BEGIN:DAYLIGHT
TZOFFSETFROM:-0500
TZOFFSETTO:-0400
TZNAME:EDT
DTSTART:20270314T070000
END:DAYLIGHT
BEGIN:STANDARD
TZOFFSETFROM:-0400
TZOFFSETTO:-0500
TZNAME:EST
DTSTART:20271107T060000
END:STANDARD
END:VTIMEZONE
BEGIN:VEVENT
DTSTART;TZID=America/Toronto:20260425T070000
DTEND;TZID=America/Toronto:20260425T100000
DTSTAMP:20260422T122934
CREATED:20260101T160144Z
LAST-MODIFIED:20260422T143257Z
UID:13402-1777100400-1777111200@orleanscc.com
SUMMARY:OUTDOOR Volunteer Day
DESCRIPTION:Saturday\, April 25\, 2026      OUTDOOR Volunteer Day 7:00 to 10:00. See flyers below for details. \nCome and enjoy the day with your fellow members. Coffee & Pastries (not bagels) provided. \n \n\n  \n \n\n 
URL:https://orleanscc.com/event/outdoor-volunteer-day/
CATEGORIES:Announcement
ATTACH;FMTTYPE=image/png:https://orleanscc.com/wp-content/uploads/2017/02/VolunteerDayGeneric-e1649259254793.png
END:VEVENT
BEGIN:VEVENT
DTSTART;VALUE=DATE:20260430
DTEND;VALUE=DATE:20260501
DTSTAMP:20260422T122934
CREATED:20260101T153209Z
LAST-MODIFIED:20260421T195409Z
UID:4170-1777507200-1777593599@orleanscc.com
SUMMARY:Quota League (1) ~ Thursdays ~ Begins
DESCRIPTION:Starting Thursday\, April 30\, 2026      (every Thursday through September 24\, 2026)  \nNew for 2026 – Quota League is now open to Men and Women \n  \n \n  \n 
URL:https://orleanscc.com/event/quota-league-thursdays-1/
CATEGORIES:Tournament for both Men & Women
ATTACH;FMTTYPE=image/png:https://orleanscc.com/wp-content/uploads/2026/04/Quota-League-Generic.png
END:VEVENT
END:VCALENDAR